BEGIN:VCALENDAR
VERSION:2.0
PRODID:-//Tukios.com/
BEGIN:VEVENT
UID:5d2fbd5e-0c02-4f3e-a859-a29bbf23e19e@www.steinkefuneralhome.com
DTSTAMP:20260422T200330Z
DTSTART:20260426T160000Z
DTEND:20260426T170000Z
SUMMARY:Memorial Service
DESCRIPTION:
URL:https://www.steinkefuneralhome.com/obituaries/sharon-york
LOCATION:Hope Community 609 N McKinley Ave  Rensselaer IN 47978
GEO:40.9420055;-87.1505966
END:VEVENT
END:VCALENDAR